BEGIN:VCALENDAR
VERSION:2.0
PRODID:-//jEvents 2.0 for Joomla//EN
CALSCALE:GREGORIAN
METHOD:PUBLISH
BEGIN:VEVENT
UID:a9932981d4cf693442cd9ea14204f44b
CATEGORIES:Alpinisme
CREATED:20211023T091257
SUMMARY:Initiation Aiguille du Tour
DESCRIPTION:
DTSTAMP:20260423T032233
DTSTART:20220604T060000
DTEND:20220604T150000
SEQUENCE:0
TRANSP:OPAQUE
END:VEVENT
END:VCALENDAR