BEGIN:VCALENDAR
VERSION:2.0
PRODID:-//jEvents 2.0 for Joomla//EN
CALSCALE:GREGORIAN
METHOD:PUBLISH
BEGIN:VEVENT
UID:52ec4def531f8b5344a1bf7a3d25d9c1
CATEGORIES:SAE
CREATED:19700101T010000
SUMMARY:Encadré - SAE JDR 20h-22h
LOCATION:gymnase Jeanne Desparmet-Ruello - 382 Cours Emile Zola - Villeurbanne
DESCRIPTION:Mutualisation du créneau avec l'ASVEL (18h-22h), la deuxième partie du crén
 eau (20h-22h) est sous responsabilité du GAUL.\nEncadrants principaux : \n-
  Charles C.\n- Julie B.\n- Nicolas G. \n- Vincent L.\n \n \n
X-ALT-DESC;FMTTYPE=text/html:<p>Mutualisation du créneau avec l'ASVEL (18h-22h), la deuxième partie du c
 réneau (20h-22h) est sous responsabilité du GAUL.</p><p><span style="text-d
 ecoration: underline;"><strong>Encadrants principaux</strong> : </span></p>
 <p>- Charles C.</p><p>- Julie B.</p><p>- Nicolas G. </p><p>- Vincent L.</p>
 <p> </p><p> </p>
CONTACT:escalade-gaul@googlegroups.com
DTSTAMP:20260422T220947
DTSTART:20260108T190000
DTEND:20260108T204500
SEQUENCE:0
RRULE:FREQ=WEEKLY;UNTIL=20260627T000000Z;INTERVAL=1;BYDAY=TH
EXDATE:20260416T180000
TRANSP:OPAQUE
END:VEVENT
END:VCALENDAR