BEGIN:VCALENDAR
VERSION:2.0
PRODID:-//jEvents 2.0 for Joomla//EN
CALSCALE:GREGORIAN
METHOD:PUBLISH
BEGIN:VEVENT
UID:f7ef888b2d726c21a5fa0ea50e243af4
CATEGORIES:SAE
CREATED:20251217T121823
SUMMARY:AUTONOME - SAE BRON 
LOCATION:Gymnase Université Lyon 2 - Rue Paul Langevin - Bron
DESCRIPTION:<p><span style="text-decoration: underline;"><strong>Sauf mention contraire
 , ce créneau est réservé aux grimpeurs ayant validé leur autonomie (passepo
 rt GAUL)</strong></span></p><p> </p><p>Pour les grimpeurs véhiculés, le par
 king derrière le gymnase (après le KFC) est de nouveau accessible aux prati
 quants.</p><p> </p>
CONTACT:Cette adresse e-mail est protégée contre les robots spammeurs. Vous devez activer le JavaScript pour la visualiser.
				document.getElementById('cloak2bda0a6a3e8388f5668aaf0506c4046f').innerHTML = '';
				var prefix = '&#109;a' + 'i&#108;' + '&#116;o';
				var path = 'hr' + 'ef' + '=';
				var addy2bda0a6a3e8388f5668aaf0506c4046f = '&#101;sc&#97;l&#97;d&#101;-g&#97;&#117;l' + '&#64;';
				addy2bda0a6a3e8388f5668aaf0506c4046f = addy2bda0a6a3e8388f5668aaf0506c4046f + 'g&#111;&#111;gl&#101;gr&#111;&#117;ps' + '&#46;' + 'c&#111;m';
				var addy_text2bda0a6a3e8388f5668aaf0506c4046f = '&#101;sc&#97;l&#97;d&#101;-g&#97;&#117;l' + '&#64;' + 'g&#111;&#111;gl&#101;gr&#111;&#117;ps' + '&#46;' + 'c&#111;m';document.getElementById('cloak2bda0a6a3e8388f5668aaf0506c4046f').innerHTML += '<a ' + path + '\'' + prefix + ':' + addy2bda0a6a3e8388f5668aaf0506c4046f + '\'>'+addy_text2bda0a6a3e8388f5668aaf0506c4046f+'';
		
DTSTAMP:20260425T004022
DTSTART:20260204T190000
DTEND:20260204T210000
SEQUENCE:0
TRANSP:OPAQUE
END:VEVENT
END:VCALENDAR