BEGIN:VCALENDAR
VERSION:2.0
PRODID:-//jEvents 2.0 for Joomla//EN
CALSCALE:GREGORIAN
METHOD:PUBLISH
BEGIN:VEVENT
UID:52ec4def531f8b5344a1bf7a3d25d9c1
CATEGORIES:SAE
CREATED:20251217T152206
SUMMARY:Encadré - SAE JDR 20h-22h
LOCATION:gymnase Jeanne Desparmet-Ruello - 382 Cours Emile Zola - Villeurbanne
DESCRIPTION:<p>Mutualisation du créneau avec l'ASVEL (18h-22h), la deuxième partie du c
 réneau (20h-22h) est sous responsabilité du GAUL.</p><p><span style="text-d
 ecoration: underline;"><strong>Encadrants principaux</strong> : </span></p>
 <p>- Charles C.</p><p>- Julie B.</p><p>- Nicolas G. </p><p>- Vincent L.</p>
 <p> </p><p> </p>
CONTACT:Cette adresse e-mail est protégée contre les robots spammeurs. Vous devez activer le JavaScript pour la visualiser.
				document.getElementById('cloake1d5d3dc4084fdbba45e97e9b0b610e3').innerHTML = '';
				var prefix = '&#109;a' + 'i&#108;' + '&#116;o';
				var path = 'hr' + 'ef' + '=';
				var addye1d5d3dc4084fdbba45e97e9b0b610e3 = '&#101;sc&#97;l&#97;d&#101;-g&#97;&#117;l' + '&#64;';
				addye1d5d3dc4084fdbba45e97e9b0b610e3 = addye1d5d3dc4084fdbba45e97e9b0b610e3 + 'g&#111;&#111;gl&#101;gr&#111;&#117;ps' + '&#46;' + 'c&#111;m';
				var addy_texte1d5d3dc4084fdbba45e97e9b0b610e3 = '&#101;sc&#97;l&#97;d&#101;-g&#97;&#117;l' + '&#64;' + 'g&#111;&#111;gl&#101;gr&#111;&#117;ps' + '&#46;' + 'c&#111;m';document.getElementById('cloake1d5d3dc4084fdbba45e97e9b0b610e3').innerHTML += '<a ' + path + '\'' + prefix + ':' + addye1d5d3dc4084fdbba45e97e9b0b610e3 + '\'>'+addy_texte1d5d3dc4084fdbba45e97e9b0b610e3+'';
		
DTSTAMP:20260422T234452
DTSTART:20260115T190000
DTEND:20260115T204500
SEQUENCE:0
TRANSP:OPAQUE
END:VEVENT
END:VCALENDAR