BEGIN:VCALENDAR
VERSION:2.0
PRODID:-//jEvents 2.0 for Joomla//EN
CALSCALE:GREGORIAN
METHOD:PUBLISH
BEGIN:VEVENT
UID:52ec4def531f8b5344a1bf7a3d25d9c1
CATEGORIES:SAE
CREATED:20251217T152206
SUMMARY:Encadré - SAE JDR 20h-22h
LOCATION:gymnase Jeanne Desparmet-Ruello - 382 Cours Emile Zola - Villeurbanne
DESCRIPTION:<p>Mutualisation du créneau avec l'ASVEL (18h-22h), la deuxième partie du c
 réneau (20h-22h) est sous responsabilité du GAUL.</p><p><span style="text-d
 ecoration: underline;"><strong>Encadrants principaux</strong> : </span></p>
 <p>- Charles C.</p><p>- Julie B.</p><p>- Nicolas G. </p><p>- Vincent L.</p>
 <p> </p><p> </p>
CONTACT:Cette adresse e-mail est protégée contre les robots spammeurs. Vous devez activer le JavaScript pour la visualiser.
				document.getElementById('cloak736d952cc5cfdc2c262d5222da4b1fda').innerHTML = '';
				var prefix = '&#109;a' + 'i&#108;' + '&#116;o';
				var path = 'hr' + 'ef' + '=';
				var addy736d952cc5cfdc2c262d5222da4b1fda = '&#101;sc&#97;l&#97;d&#101;-g&#97;&#117;l' + '&#64;';
				addy736d952cc5cfdc2c262d5222da4b1fda = addy736d952cc5cfdc2c262d5222da4b1fda + 'g&#111;&#111;gl&#101;gr&#111;&#117;ps' + '&#46;' + 'c&#111;m';
				var addy_text736d952cc5cfdc2c262d5222da4b1fda = '&#101;sc&#97;l&#97;d&#101;-g&#97;&#117;l' + '&#64;' + 'g&#111;&#111;gl&#101;gr&#111;&#117;ps' + '&#46;' + 'c&#111;m';document.getElementById('cloak736d952cc5cfdc2c262d5222da4b1fda').innerHTML += '<a ' + path + '\'' + prefix + ':' + addy736d952cc5cfdc2c262d5222da4b1fda + '\'>'+addy_text736d952cc5cfdc2c262d5222da4b1fda+'';
		
DTSTAMP:20260422T221452
DTSTART:20260122T190000
DTEND:20260122T204500
SEQUENCE:0
TRANSP:OPAQUE
END:VEVENT
END:VCALENDAR