BEGIN:VCALENDAR
VERSION:2.0
PRODID:-//jEvents 2.0 for Joomla//EN
CALSCALE:GREGORIAN
METHOD:PUBLISH
BEGIN:VEVENT
UID:52ec4def531f8b5344a1bf7a3d25d9c1
CATEGORIES:SAE
CREATED:20251217T152206
SUMMARY:Encadré - SAE JDR 20h-22h
LOCATION:gymnase Jeanne Desparmet-Ruello - 382 Cours Emile Zola - Villeurbanne
DESCRIPTION:Mutualisation du créneau avec l'ASVEL (18h-22h), la deuxième partie du crén
 eau (20h-22h) est sous responsabilité du GAUL.\nEncadrants principaux : \n-
  Charles C.\n- Julie B.\n- Nicolas G. \n- Vincent L.\n \n \n
X-ALT-DESC;FMTTYPE=text/html:<p>Mutualisation du créneau avec l'ASVEL (18h-22h), la deuxième partie du c
 réneau (20h-22h) est sous responsabilité du GAUL.</p><p><span style="text-d
 ecoration: underline;"><strong>Encadrants principaux</strong> : </span></p>
 <p>- Charles C.</p><p>- Julie B.</p><p>- Nicolas G. </p><p>- Vincent L.</p>
 <p> </p><p> </p>
CONTACT:Cette adresse e-mail est protégée contre les robots spammeurs. Vous devez activer le JavaScript pour la visualiser.
				document.getElementById('cloak7523b850e5b7879288cc5b0ac9a44982').innerHTML = '';
				var prefix = '&#109;a' + 'i&#108;' + '&#116;o';
				var path = 'hr' + 'ef' + '=';
				var addy7523b850e5b7879288cc5b0ac9a44982 = '&#101;sc&#97;l&#97;d&#101;-g&#97;&#117;l' + '&#64;';
				addy7523b850e5b7879288cc5b0ac9a44982 = addy7523b850e5b7879288cc5b0ac9a44982 + 'g&#111;&#111;gl&#101;gr&#111;&#117;ps' + '&#46;' + 'c&#111;m';
				var addy_text7523b850e5b7879288cc5b0ac9a44982 = '&#101;sc&#97;l&#97;d&#101;-g&#97;&#117;l' + '&#64;' + 'g&#111;&#111;gl&#101;gr&#111;&#117;ps' + '&#46;' + 'c&#111;m';document.getElementById('cloak7523b850e5b7879288cc5b0ac9a44982').innerHTML += '<a ' + path + '\'' + prefix + ':' + addy7523b850e5b7879288cc5b0ac9a44982 + '\'>'+addy_text7523b850e5b7879288cc5b0ac9a44982+'';
		
DTSTAMP:20260422T012124
DTSTART:20260430T180000
DTEND:20260430T194500
SEQUENCE:0
TRANSP:OPAQUE
END:VEVENT
END:VCALENDAR